BEGIN:VCALENDAR
VERSION:2.0
PRODID:-//VIMÖ - ECPv6.15.20//NONSGML v1.0//EN
CALSCALE:GREGORIAN
METHOD:PUBLISH
X-ORIGINAL-URL:https://vimoe.at
X-WR-CALDESC:Veranstaltungen für VIMÖ
REFRESH-INTERVAL;VALUE=DURATION:PT1H
X-Robots-Tag:noindex
X-PUBLISHED-TTL:PT1H
BEGIN:VTIMEZONE
TZID:Europe/Vienna
BEGIN:DAYLIGHT
TZOFFSETFROM:+0100
TZOFFSETTO:+0200
TZNAME:CEST
DTSTART:20240331T010000
END:DAYLIGHT
BEGIN:STANDARD
TZOFFSETFROM:+0200
TZOFFSETTO:+0100
TZNAME:CET
DTSTART:20241027T010000
END:STANDARD
BEGIN:DAYLIGHT
TZOFFSETFROM:+0100
TZOFFSETTO:+0200
TZNAME:CEST
DTSTART:20250330T010000
END:DAYLIGHT
BEGIN:STANDARD
TZOFFSETFROM:+0200
TZOFFSETTO:+0100
TZNAME:CET
DTSTART:20251026T010000
END:STANDARD
BEGIN:DAYLIGHT
TZOFFSETFROM:+0100
TZOFFSETTO:+0200
TZNAME:CEST
DTSTART:20260329T010000
END:DAYLIGHT
BEGIN:STANDARD
TZOFFSETFROM:+0200
TZOFFSETTO:+0100
TZNAME:CET
DTSTART:20261025T010000
END:STANDARD
END:VTIMEZONE
BEGIN:VEVENT
DTSTART;TZID=Europe/Vienna:20250218T180000
DTEND;TZID=Europe/Vienna:20250218T200000
DTSTAMP:20260421T225745
CREATED:20250128T152549Z
LAST-MODIFIED:20250213T095440Z
UID:3645-1739901600-1739908800@vimoe.at
SUMMARY:Community-Abend bei VIMÖ Wien
DESCRIPTION:– Deutsch siehe unten – \nSomething special is on the programme for our community evening in february for intersex people/people with variations of sex characteristics: \nWe would like to watch a documentary film in English together. The film lasts about 90 minutes and portrays intersex activists. \nWe look forward to welcoming you! If you have any questions\, please contact us via wien@vimoe.at. \nDate: Tuesday\, 18 February 2025 \nWhen: 6 – 8pm \nWhere: Cultural Centre 4lthangrund\, VIMÖ Vienna office\, Augasse 2-6\, 1090 Vienna \nDirections (to the accessible entry\, where our office is): https://4lthangrund.jetzt/zugang-zu-4lthangrund-4lthangrund/ \n– \nBei unserem Community-Abend im Feburar für intergeschlechtliche Menschen/Menschen mit Variationen der Geschlechtsmerkmale steht etwas Besonderes auf dem Programm: \nWir möchten gemeinsam einen Dokumentations-Film auf Englisch anschauen. Der Film dauert ca. 90 Minuten und portraitiert Inter*-Aktivist*innen. \nWir freuen uns\, wenn vorbeikommt! Bei Fragen meldet euch gerne bei wien@vimoe.at. \nDatum: Dienstag\, 18. Februar 2025 \nWann: 18 – 20:00 Uhr \nWo: Kulturzentrum 4lthangrund\, VIMÖ Wien Büro\, Augasse 2-6\, 1090 Wien \nWegbeschreibung: https://vimoe.at/wien/buero/ \n 
URL:https://vimoe.at/event/community-abend-bei-vimoe-wien-2/
LOCATION:VIMÖ Wien Büro\, Augasse 2-6\, Wien\, 1090\, Austria
END:VEVENT
END:VCALENDAR