BEGIN:VCALENDAR
VERSION:2.0
PRODID:-//VIMÖ - ECPv6.15.20//NONSGML v1.0//EN
CALSCALE:GREGORIAN
METHOD:PUBLISH
X-WR-CALNAME:VIMÖ
X-ORIGINAL-URL:https://vimoe.at
X-WR-CALDESC:Veranstaltungen für VIMÖ
REFRESH-INTERVAL;VALUE=DURATION:PT1H
X-Robots-Tag:noindex
X-PUBLISHED-TTL:PT1H
BEGIN:VTIMEZONE
TZID:Europe/Vienna
BEGIN:DAYLIGHT
TZOFFSETFROM:+0100
TZOFFSETTO:+0200
TZNAME:CEST
DTSTART:20240331T010000
END:DAYLIGHT
BEGIN:STANDARD
TZOFFSETFROM:+0200
TZOFFSETTO:+0100
TZNAME:CET
DTSTART:20241027T010000
END:STANDARD
BEGIN:DAYLIGHT
TZOFFSETFROM:+0100
TZOFFSETTO:+0200
TZNAME:CEST
DTSTART:20250330T010000
END:DAYLIGHT
BEGIN:STANDARD
TZOFFSETFROM:+0200
TZOFFSETTO:+0100
TZNAME:CET
DTSTART:20251026T010000
END:STANDARD
BEGIN:DAYLIGHT
TZOFFSETFROM:+0100
TZOFFSETTO:+0200
TZNAME:CEST
DTSTART:20260329T010000
END:DAYLIGHT
BEGIN:STANDARD
TZOFFSETFROM:+0200
TZOFFSETTO:+0100
TZNAME:CET
DTSTART:20261025T010000
END:STANDARD
END:VTIMEZONE
BEGIN:VEVENT
DTSTART;TZID=Europe/Vienna:20250228T180000
DTEND;TZID=Europe/Vienna:20250228T200000
DTSTAMP:20260421T043824
CREATED:20250128T113740Z
LAST-MODIFIED:20250128T114948Z
UID:3606-1740765600-1740772800@vimoe.at
SUMMARY:Community Treffen für Inter*/VdG und Angehörige
DESCRIPTION:Ein Kombi-Treffen online soll möglichst allen die Teilnahme ermöglichen und auch neuen Menschen\, Familien\, die Kontakt gesucht haben\, die Möglichkeit geben\, andere kennen zu lernen. Wenn ihr bestimmte Fragen oder Themen mitbringt\, könnt ihr gerne im Vorhinein Bescheid geben (für die Planung des Abends). \nWann: Freitag\, 28. Februar 2025 um 18 Uhr  \nWer: intergeschlechtliche Menschen\, Menschen mit Variationen der Geschlechtsmerkmale und Angehörige wie Eltern/Elternteile\, Partner*innen oder andere nahe Bezugspersonen \nWo: auf ZOOM online – bei Interesse teilzunehmen\, bitte bis Anfang Februar Kontakt mit VIMÖ aufnehmen via: info@vimoe.at.
URL:https://vimoe.at/event/online-community-treffen-fuer-inter-vdg-und-angehoerige/
LOCATION:Online
END:VEVENT
END:VCALENDAR