BEGIN:VCALENDAR
VERSION:2.0
PRODID:-//VIMÖ - ECPv6.15.20//NONSGML v1.0//EN
CALSCALE:GREGORIAN
METHOD:PUBLISH
X-WR-CALNAME:VIMÖ
X-ORIGINAL-URL:https://vimoe.at
X-WR-CALDESC:Veranstaltungen für VIMÖ
REFRESH-INTERVAL;VALUE=DURATION:PT1H
X-Robots-Tag:noindex
X-PUBLISHED-TTL:PT1H
BEGIN:VTIMEZONE
TZID:Europe/Vienna
BEGIN:DAYLIGHT
TZOFFSETFROM:+0100
TZOFFSETTO:+0200
TZNAME:CEST
DTSTART:20240331T010000
END:DAYLIGHT
BEGIN:STANDARD
TZOFFSETFROM:+0200
TZOFFSETTO:+0100
TZNAME:CET
DTSTART:20241027T010000
END:STANDARD
BEGIN:DAYLIGHT
TZOFFSETFROM:+0100
TZOFFSETTO:+0200
TZNAME:CEST
DTSTART:20250330T010000
END:DAYLIGHT
BEGIN:STANDARD
TZOFFSETFROM:+0200
TZOFFSETTO:+0100
TZNAME:CET
DTSTART:20251026T010000
END:STANDARD
BEGIN:DAYLIGHT
TZOFFSETFROM:+0100
TZOFFSETTO:+0200
TZNAME:CEST
DTSTART:20260329T010000
END:DAYLIGHT
BEGIN:STANDARD
TZOFFSETFROM:+0200
TZOFFSETTO:+0100
TZNAME:CET
DTSTART:20261025T010000
END:STANDARD
END:VTIMEZONE
BEGIN:VEVENT
DTSTART;TZID=Europe/Vienna:20250415T180000
DTEND;TZID=Europe/Vienna:20250415T200000
DTSTAMP:20260421T043938
CREATED:20250313T092421Z
LAST-MODIFIED:20250313T092421Z
UID:3767-1744740000-1744747200@vimoe.at
SUMMARY:Community-Abend für Menschen mit VdG in Wien
DESCRIPTION:english below \n  \nUnser nächste Community-Abend in Wien für intergeschlechtliche Menschen/Menschen mit Variationen der Geschlechtsmerkmale findet wie gewohnt in den Räumlichkeiten des VIMÖ Wien Büros statt. Ihr könnt einfach so vorbeikommen\, die Abende sind immer offen auch für neue Menschen. Es gibt Getränke und Snacks und die Möglichkeit zum persönlichen Austausch und Kennenlernen. \nBei Bedarf organisieren wir den Community-Abend in Deutsch und Englisch bzw. können wir eine Flüsterübersetzung anbieten – gebt uns am Besten im Vorhinein Bescheid\, wenn ihr diese oder eine andere Unterstützung braucht oder Fragen habt: wien@vimoe.at. Wir freuen uns auf ein Wiedersehen oder auch Kennenlernen! \nDatum: Dienstag\, 15. April 2025 \nWann: 18 – 20 Uhr \nWo: Kulturzentrum 4lthangrund\, VIMÖ Wien Büro\, Augasse 2-6\, 1090 Wien \nWegbeschreibung: https://vimoe.at/wien/buero/ \n  \nOur next community evening for intersex people / people with variations of sex characteristics will be taking place in the office of VIMÖ Vienna. You are welcome to come around\, get to know us and have some conversations about different topics. We will provide Snacks and Drinks\, some of them will be vegan. The community evening always is open for new people and stories! \n  \nIf needed\, we will organise the community evening both in german and english or we can provide whisper-translation. Please let us know in advance what your needs are. In case you have questions\, please write an e-mail to wien@vimoe.at. We are looking forward to seeing you again or getting to know you! \n  \nDate: Tuedsay\, 15th April 2025\nTime: 6 pm – 8 pm\nWhere: Kulturzentrum 4lhtangrund\, VIMÖ Vienna office\, Augasse 2-6\, 1090 Wien \nDirections: https://vimoe.at/office_vienna/
URL:https://vimoe.at/event/community-abend-fuer-menschen-mit-vdg-in-wien/
LOCATION:VIMÖ Wien Büro\, Augasse 2-6\, Wien\, 1090\, Austria
END:VEVENT
END:VCALENDAR