BEGIN:VCALENDAR
VERSION:2.0
PRODID:-//VIMÖ - ECPv6.15.20//NONSGML v1.0//EN
CALSCALE:GREGORIAN
METHOD:PUBLISH
X-WR-CALNAME:VIMÖ
X-ORIGINAL-URL:https://vimoe.at
X-WR-CALDESC:Veranstaltungen für VIMÖ
REFRESH-INTERVAL;VALUE=DURATION:PT1H
X-Robots-Tag:noindex
X-PUBLISHED-TTL:PT1H
BEGIN:VTIMEZONE
TZID:Europe/Vienna
BEGIN:DAYLIGHT
TZOFFSETFROM:+0100
TZOFFSETTO:+0200
TZNAME:CEST
DTSTART:20240331T010000
END:DAYLIGHT
BEGIN:STANDARD
TZOFFSETFROM:+0200
TZOFFSETTO:+0100
TZNAME:CET
DTSTART:20241027T010000
END:STANDARD
BEGIN:DAYLIGHT
TZOFFSETFROM:+0100
TZOFFSETTO:+0200
TZNAME:CEST
DTSTART:20250330T010000
END:DAYLIGHT
BEGIN:STANDARD
TZOFFSETFROM:+0200
TZOFFSETTO:+0100
TZNAME:CET
DTSTART:20251026T010000
END:STANDARD
BEGIN:DAYLIGHT
TZOFFSETFROM:+0100
TZOFFSETTO:+0200
TZNAME:CEST
DTSTART:20260329T010000
END:DAYLIGHT
BEGIN:STANDARD
TZOFFSETFROM:+0200
TZOFFSETTO:+0100
TZNAME:CET
DTSTART:20261025T010000
END:STANDARD
END:VTIMEZONE
BEGIN:VEVENT
DTSTART;TZID=Europe/Vienna:20250517T170000
DTEND;TZID=Europe/Vienna:20250518T000000
DTSTAMP:20260421T020708
CREATED:20250515T124215Z
LAST-MODIFIED:20250522T074759Z
UID:4023-1747501200-1747526400@vimoe.at
SUMMARY:Frühlingsfest im Kulturzentrum 4lthangrund
DESCRIPTION:Im Kulturzentrum 4lthangrund (dort ist das Büro von VIMÖ in Wien) findet ab 17:00 das Frühlingsfest statt. \nAb 17 Uhr gibt es ein abwechslungsreiches Programm mit Musik und Auflegerei\, Workshops\, Kidz Corner\, Essen – wir werden unser Inter* Bullshit Bingo anbieten. Wir freuen uns auf ein schönes Fest\, und wenn ihr vorbeikommt! \nÜber das Inter* Bullshit Bingo: \nWir\, inter* Held*innen\, sind ja einiges gewohnt – wie sich das für Minderheiten halt so gehört!\nKennt ihr die ultimativen Bullshit-Sprüche\, -Begriffe und -Fragen an und über uns? \nSeid ihr selbst inter* und wollt euch mit uns so richtig spielerisch-sarkastisch darüber auslassen?\nDann kommt zu unserem Inter* Bullshit Bingo und holt euch eure Empowerment Preise! \nAnd what about allies – könnt ihr beim Bingo-Spielen mithalten? \nNutzt die einzigartige Gelegenheit und zeigt euer Wissen zu Diskriminierung!\nNatürlich könnt ihr auch mitmachen\, wenn ihr noch nicht wisst\, worum es bei Inter* geht – wir sind schließlich inklusiv. \nIhr gewinnt auf jeden Fall die eine oder andere Idee\, wie man intergeschlechtliche Menschen unterstützen kann. \n✨ Es gibt Reality-Check mit Awareness-Zuckerl – verwandeln wir den Bullshit gemeinsam zu geschlechtervielfaltspositiver Solidarität. \nKommt vorbei and show your Bingo-Skills!\nAlle können mitmachen! Alle lernen was! Und vor allem\, alle bekommen was 😉! \n  \nDas vollständige Programm gibt es auf der Webseite von 4lthangrund.
URL:https://vimoe.at/event/fruehlingsfest-im-kulturzentrum-4lthangrund/
END:VEVENT
END:VCALENDAR