BEGIN:VCALENDAR
VERSION:2.0
PRODID:-//VIMÖ - ECPv6.15.20//NONSGML v1.0//EN
CALSCALE:GREGORIAN
METHOD:PUBLISH
X-WR-CALNAME:VIMÖ
X-ORIGINAL-URL:https://vimoe.at
X-WR-CALDESC:Veranstaltungen für VIMÖ
REFRESH-INTERVAL;VALUE=DURATION:PT1H
X-Robots-Tag:noindex
X-PUBLISHED-TTL:PT1H
BEGIN:VTIMEZONE
TZID:Europe/Vienna
BEGIN:DAYLIGHT
TZOFFSETFROM:+0100
TZOFFSETTO:+0200
TZNAME:CEST
DTSTART:20240331T010000
END:DAYLIGHT
BEGIN:STANDARD
TZOFFSETFROM:+0200
TZOFFSETTO:+0100
TZNAME:CET
DTSTART:20241027T010000
END:STANDARD
BEGIN:DAYLIGHT
TZOFFSETFROM:+0100
TZOFFSETTO:+0200
TZNAME:CEST
DTSTART:20250330T010000
END:DAYLIGHT
BEGIN:STANDARD
TZOFFSETFROM:+0200
TZOFFSETTO:+0100
TZNAME:CET
DTSTART:20251026T010000
END:STANDARD
BEGIN:DAYLIGHT
TZOFFSETFROM:+0100
TZOFFSETTO:+0200
TZNAME:CEST
DTSTART:20260329T010000
END:DAYLIGHT
BEGIN:STANDARD
TZOFFSETFROM:+0200
TZOFFSETTO:+0100
TZNAME:CET
DTSTART:20261025T010000
END:STANDARD
END:VTIMEZONE
BEGIN:VEVENT
DTSTART;TZID=Europe/Vienna:20250520T130000
DTEND;TZID=Europe/Vienna:20250520T170000
DTSTAMP:20260421T020719
CREATED:20250430T094207Z
LAST-MODIFIED:20250430T094207Z
UID:3953-1747746000-1747760400@vimoe.at
SUMMARY:Inklusive Sprache - Geschlechtergerechtes und diversitätssensibles Kommunizieren für Student*innen
DESCRIPTION:Im Mai gibt Tinou Ponzer von unserer Beratungsstelle Var.Ges zusammen mit Susanne Kalka (Johannes-Kepler-Universität Linz) ein Seminar für Studierende mit Schwerpunkt auf geschlchtersensibler Sprache! Die Veranstaltung findet in Linz statt. Die folgende Beschreibung wurde von der Webseite der JKU übernommen: \n  \nSeminarangebot im Rahmen des Monats der Vielfalt: \n  \nIn der täglichen Kommunikation möchten wir Menschen erreichen\, gewinnen und überzeugen. Eine inklusive Sprache\, die alle repräsentiert\, ist dazu unerlässlich. \n\nDie Teilnehmer*innen lernen\, wie sie geschlechtergerecht und diversitätssensibel kommunizieren können\, wie also Menschen in ihrer Vielfältigkeit\, unabhängig von Geschlecht\, Alter\, Herkunft oder Behinderung gleichwertig angesprochen werden. \nMit vielen praktischen Übungen erfahren die Teilnehmer*innen\, dass inklusive Sprache leicht umzusetzen ist und viele positive Effekte mit sich bringt. \n  \nSeminarinhalt           \n\nWirkung von Sprache – Sprache schafft Wirklichkeit\nNormen in der Sprache – Vorstellungen von Geschlecht\, Alter\, Herkunft und Behinderung prägen Sprache\nEmpfehlungen zur inklusiven Sprachpraxis – Diversität in Text\, gesprochener Sprache und Bildsprache\nSensibilisierung zu geschlechtlicher Vielfalt insbesondere in Bezug auf Intergeschlechtlichkeit\nKommunikation jenseits von nur zwei Geschlechtern\nVorstellung des Sprachleitfadens der JKU und interaktive\, vertiefende Übungen\n\nSeminarziele             \n\nDie Teilnehmer*innen lernen über die Wirkung von Sprache und bestehende Normen in der Sprache.\nSie haben einen Überblick über die Möglichkeiten eines inklusiven Sprachgebrauchs.\nSie können die von der JKU empfohlenen Kommunikations- und Schreibweisen anwenden.\n\n  \nTrainer*innen \nSusanne Kalka\, Abteilung Gleichstellung\, Chancengerechtigkeit und Vielfalt JKU \nTinou Ponzer\, VIMÖ und VARGES \n  \nWeitere Infos zum Ort und zur Anmeldung gibt es auf der Seite der JKU Linz.
URL:https://vimoe.at/event/inklusive-sprache-geschlechtergerechtes-und-diversitaetssensibles-kommunizieren-fuer-studentinnen/
END:VEVENT
BEGIN:VEVENT
DTSTART;TZID=Europe/Vienna:20250520T173000
DTEND;TZID=Europe/Vienna:20250520T200000
DTSTAMP:20260421T020719
CREATED:20250515T125903Z
LAST-MODIFIED:20250515T125903Z
UID:4027-1747762200-1747771200@vimoe.at
SUMMARY:Filmvorführung von "Inter* Story - ein Stück Aktivismus" mit anschließendem Gespräch
DESCRIPTION:Ab 18:00 Uhr wird der Film „Inter*Story – ein Stück Aktivismus“ von VIMÖ-Wien gezeigt und im Anschluss findet ein Gespräch mit Prof.in Dr.inKonstanze Plett\, LL.M.\, Nick Markwald und Tinou Ponzer statt. Das Gespräch wird moderiert von Prof.in Dr.in Elisabeth Greif. Der Eintritt zur Veranstaltung ist frei! \nWann: 18.00 – 20.00 Uhr \nEinlass ab 17.30 Uhr \nOrt: Zirkus des Wissens – JKU\, Altenberger Str. 69\, 4040 Linz \nDie Veranstaltung wird organisiert vom Institut für Legal Gender Studies & Abteilung Gleichstellung\, Chancengerechtigkeit und Vielfalt der JKU Linz. Weitere Informationen zur Veranstaltung gibt es hier.
URL:https://vimoe.at/event/filmvorfuehrung-von-inter-story-ein-stueck-aktivismus-mit-anschliessendem-gespraech/
END:VEVENT
END:VCALENDAR