BEGIN:VCALENDAR
VERSION:2.0
PRODID:-//VIMÖ - ECPv6.15.20//NONSGML v1.0//EN
CALSCALE:GREGORIAN
METHOD:PUBLISH
X-ORIGINAL-URL:https://vimoe.at
X-WR-CALDESC:Veranstaltungen für VIMÖ
REFRESH-INTERVAL;VALUE=DURATION:PT1H
X-Robots-Tag:noindex
X-PUBLISHED-TTL:PT1H
BEGIN:VTIMEZONE
TZID:Europe/Vienna
BEGIN:DAYLIGHT
TZOFFSETFROM:+0100
TZOFFSETTO:+0200
TZNAME:CEST
DTSTART:20240331T010000
END:DAYLIGHT
BEGIN:STANDARD
TZOFFSETFROM:+0200
TZOFFSETTO:+0100
TZNAME:CET
DTSTART:20241027T010000
END:STANDARD
BEGIN:DAYLIGHT
TZOFFSETFROM:+0100
TZOFFSETTO:+0200
TZNAME:CEST
DTSTART:20250330T010000
END:DAYLIGHT
BEGIN:STANDARD
TZOFFSETFROM:+0200
TZOFFSETTO:+0100
TZNAME:CET
DTSTART:20251026T010000
END:STANDARD
BEGIN:DAYLIGHT
TZOFFSETFROM:+0100
TZOFFSETTO:+0200
TZNAME:CEST
DTSTART:20260329T010000
END:DAYLIGHT
BEGIN:STANDARD
TZOFFSETFROM:+0200
TZOFFSETTO:+0100
TZNAME:CET
DTSTART:20261025T010000
END:STANDARD
END:VTIMEZONE
BEGIN:VEVENT
DTSTART;TZID=Europe/Vienna:20250527T180000
DTEND;TZID=Europe/Vienna:20250527T200000
DTSTAMP:20260421T004355
CREATED:20250522T073712Z
LAST-MODIFIED:20250522T073712Z
UID:4057-1748368800-1748376000@vimoe.at
SUMMARY:Gespräche und Infos zu "Reproduktive Rechte und Selbstbestimmung"
DESCRIPTION:Im Rahmen von FEM*tastica\, den langen Nächten des Feminismus\, gibt es eine gemeinsame Veranstaltung von Bily und VIMÖ zum Thema „Reproduktive Rechte und Selbstbestimmung“. Hier gibt es in gemütlicher Runde Informationen und Gespräche zum Thema reproduktive Rechte und Selbstbestimmung. Dabei basteln wir unter anderem Demo-Schilder für den nächsten Safe Abortion Day am 28.09.2025 und zu anderen Gelegenheiten – denn die nächste Demo kommt bestimmt! \nDas Bastelmaterial wird kostenlos zur Verfügung gestellt. \nWann: 27.05.2025   \nUhrzeit: 18:00 bis 20:00 Uhr   \nWo: Pfarrplatz Linz oder bei Regen im Willy*Fred (Graben 3\, 4020 Linz) \n  \nDie FEM*tastica finden vom 26.05.2025-28.05.2025 an verschiedenen Orten in Linz statt. \nBei FEM*tastica\, den langen Nächten des Feminismus kannst du die „fem*tastische“ Seite von Linz kennenlernen: Es gibt Vorträge\, künstlerische Workshops\, Aktionen\, Filmvorführungen\, Open Doors\, Gespräche\, Lesungen\, Performances und vieles mehr – direkt von und mit Organisationen\, die tagtäglich Feminismus in ihrer Arbeit leben. \nALLE können dabei sein und das gesamte Programm ist KOSTENLOS! Lass dich inspirieren und entdecke\, wie vielfältig und lebendig der Feminismus in Linz ist – und wie du selbst mitmachen kannst! \nMehr Infos: https://www.linz.at/frauen/femtastica.php
URL:https://vimoe.at/event/gespraeche-und-infos-zu-reproduktive-rechte-und-selbstbestimmung/
END:VEVENT
END:VCALENDAR