BEGIN:VCALENDAR
VERSION:2.0
PRODID:-//VIMÖ - ECPv6.15.20//NONSGML v1.0//EN
CALSCALE:GREGORIAN
METHOD:PUBLISH
X-WR-CALNAME:VIMÖ
X-ORIGINAL-URL:https://vimoe.at
X-WR-CALDESC:Veranstaltungen für VIMÖ
REFRESH-INTERVAL;VALUE=DURATION:PT1H
X-Robots-Tag:noindex
X-PUBLISHED-TTL:PT1H
BEGIN:VTIMEZONE
TZID:Europe/Vienna
BEGIN:DAYLIGHT
TZOFFSETFROM:+0100
TZOFFSETTO:+0200
TZNAME:CEST
DTSTART:20240331T010000
END:DAYLIGHT
BEGIN:STANDARD
TZOFFSETFROM:+0200
TZOFFSETTO:+0100
TZNAME:CET
DTSTART:20241027T010000
END:STANDARD
BEGIN:DAYLIGHT
TZOFFSETFROM:+0100
TZOFFSETTO:+0200
TZNAME:CEST
DTSTART:20250330T010000
END:DAYLIGHT
BEGIN:STANDARD
TZOFFSETFROM:+0200
TZOFFSETTO:+0100
TZNAME:CET
DTSTART:20251026T010000
END:STANDARD
BEGIN:DAYLIGHT
TZOFFSETFROM:+0100
TZOFFSETTO:+0200
TZNAME:CEST
DTSTART:20260329T010000
END:DAYLIGHT
BEGIN:STANDARD
TZOFFSETFROM:+0200
TZOFFSETTO:+0100
TZNAME:CET
DTSTART:20261025T010000
END:STANDARD
END:VTIMEZONE
BEGIN:VEVENT
DTSTART;TZID=Europe/Vienna:20251015T190000
DTEND;TZID=Europe/Vienna:20251015T203000
DTSTAMP:20260420T184848
CREATED:20251014T141622Z
LAST-MODIFIED:20251014T141622Z
UID:4549-1760554800-1760560200@vimoe.at
SUMMARY:Book Presentation in Vienna: Hermaphrodite Logic – A History of Intersex Liberation
DESCRIPTION:15 October 2025\, 7 – 8.30 PM – THIS WEDNESDAY! \n\n\nSeminarraum 7 (1st floor)\, Kolingasse 14–16\, 1090 Wien \n\n\nJoin us for a conversation about Juliana Gleeson’s Hermaphrodite Logic: A History of Intersex Liberation\, a bold examination of intersex liberation. Author Juliana Gleeson will be in conversation with Tinou Ponzer\, chairperson of VIMÖ (Verein Intergeschlechtlicher Menschen Österreich) and co-editor of Inter*Pride: Perspektiven aus einer weltweiten Menschenrechtsbewegung. \n\n\nThe conversation will be in English\, with no sign language interpretation. The room and nearby toilets are wheelchair-accessible. \n\n\nHermaphrodite Logic traces how intersex activists countered medical intervention and pathologisation with wit\, collective struggle\, and political reason. Gleeson argues that intersex people have been harmed not merely for therapeutic reasons but to manage professional and parental anxieties – revealing how medical power operates to enforce sex norms. Her critical history celebrates a movement that challenges this power and ruptures normative conceptions of gender and sexuality\, offering insights for contemporary liberationist organising. \n\n\nThe conversation will explore the development of the intersex movement\, its challenges and strategies\, and the alliances that shape its ongoing struggles for bodily autonomy and self-determination. \n\n\nModerated by Boka En (Gender Research Office\, University of Vienna / AG Inter*Trans_Nonbinary\, Gender Studies Association Austria) \n\n\nOrganised by the Gender Research Office (University of Vienna) and the AG Inter*Trans_Nonbinary (Gender Studies Association Austria) in cooperation with the Faculty Center for Transdisciplinary Historical and Cultural Studies (University of Vienna) and the Department of Philosophy (University of Vienna) \n\n\nLink: https://gender.univie.ac.at/veranstaltungen/book-presentation-hermaphrodite-logic-a-history-of-intersex-liberation-15-october-2025/  
URL:https://vimoe.at/event/book-presentation-in-vienna-hermaphrodite-logic-a-history-of-intersex-liberation/
END:VEVENT
END:VCALENDAR