BEGIN:VCALENDAR
VERSION:2.0
PRODID:-//VIMÖ - ECPv6.15.20//NONSGML v1.0//EN
CALSCALE:GREGORIAN
METHOD:PUBLISH
X-ORIGINAL-URL:https://vimoe.at
X-WR-CALDESC:Veranstaltungen für VIMÖ
REFRESH-INTERVAL;VALUE=DURATION:PT1H
X-Robots-Tag:noindex
X-PUBLISHED-TTL:PT1H
BEGIN:VTIMEZONE
TZID:Europe/Vienna
BEGIN:DAYLIGHT
TZOFFSETFROM:+0100
TZOFFSETTO:+0200
TZNAME:CEST
DTSTART:20240331T010000
END:DAYLIGHT
BEGIN:STANDARD
TZOFFSETFROM:+0200
TZOFFSETTO:+0100
TZNAME:CET
DTSTART:20241027T010000
END:STANDARD
BEGIN:DAYLIGHT
TZOFFSETFROM:+0100
TZOFFSETTO:+0200
TZNAME:CEST
DTSTART:20250330T010000
END:DAYLIGHT
BEGIN:STANDARD
TZOFFSETFROM:+0200
TZOFFSETTO:+0100
TZNAME:CET
DTSTART:20251026T010000
END:STANDARD
BEGIN:DAYLIGHT
TZOFFSETFROM:+0100
TZOFFSETTO:+0200
TZNAME:CEST
DTSTART:20260329T010000
END:DAYLIGHT
BEGIN:STANDARD
TZOFFSETFROM:+0200
TZOFFSETTO:+0100
TZNAME:CET
DTSTART:20261025T010000
END:STANDARD
END:VTIMEZONE
BEGIN:VEVENT
DTSTART;TZID=Europe/Vienna:20251024T110000
DTEND;TZID=Europe/Vienna:20251024T180000
DTSTAMP:20260420T185413
CREATED:20251006T134347Z
LAST-MODIFIED:20251014T120005Z
UID:4497-1761303600-1761328800@vimoe.at
SUMMARY:Tag der offenen Beratungsstelle bei VarGes
DESCRIPTION:Am 24.10.2025 lädt Var.Ges – Beratungsstelle für Variationen der Geschlechtsmerkmale zwischen 11:00 Uhr und 18:00 Uhr in Linz dazu ein\, die Räumlichkeiten und einige Berater*innen kennen zu lernen. Die Beratungsstelle wird seit Oktober 2025 von der Stadt Linz gefördert. Wir werden Snacks und Getränke bereit stellen und freuen uns auf angenehme Gespräche. Wir bitten um Anmeldung beratung [@] varges.at. Es sind alle Interessierten\, Unterstützer*innen\, Freund*innen und Allies herzlich Willkommen! \n  \n\nDatum: 24.10.2025\nUhrzeit: 11:00-18:00 Uhr\nOrt: Willy*Fred-Haus\, 1. Stock\, Graben 3\, 4020 Linzw \nHinweis: Unsere Büro- und Büratungsräume sind leider weder barrierefrei noch barrierearm. Es handelt sich um einen Altbau ohne Aufzug und es ist eine Stiege zu bewältigen. Für barrierefreie Beratungen dürfen wir einen Raum im Erdgeschoss nutzen\, der aber am 24.10.2025 nicht zugänglich sein wird!
URL:https://vimoe.at/event/tag-der-offenen-beratungsstelle-bei-varges/
LOCATION:VIMÖ Büro Linz\, Graben 3\, 1. Stock\, Linz\, 4020\, Austria
END:VEVENT
END:VCALENDAR