BEGIN:VCALENDAR
VERSION:2.0
PRODID:-//VIMÖ - ECPv6.15.20//NONSGML v1.0//EN
CALSCALE:GREGORIAN
METHOD:PUBLISH
X-WR-CALNAME:VIMÖ
X-ORIGINAL-URL:https://vimoe.at
X-WR-CALDESC:Veranstaltungen für VIMÖ
REFRESH-INTERVAL;VALUE=DURATION:PT1H
X-Robots-Tag:noindex
X-PUBLISHED-TTL:PT1H
BEGIN:VTIMEZONE
TZID:Europe/Vienna
BEGIN:DAYLIGHT
TZOFFSETFROM:+0100
TZOFFSETTO:+0200
TZNAME:CEST
DTSTART:20240331T010000
END:DAYLIGHT
BEGIN:STANDARD
TZOFFSETFROM:+0200
TZOFFSETTO:+0100
TZNAME:CET
DTSTART:20241027T010000
END:STANDARD
BEGIN:DAYLIGHT
TZOFFSETFROM:+0100
TZOFFSETTO:+0200
TZNAME:CEST
DTSTART:20250330T010000
END:DAYLIGHT
BEGIN:STANDARD
TZOFFSETFROM:+0200
TZOFFSETTO:+0100
TZNAME:CET
DTSTART:20251026T010000
END:STANDARD
BEGIN:DAYLIGHT
TZOFFSETFROM:+0100
TZOFFSETTO:+0200
TZNAME:CEST
DTSTART:20260329T010000
END:DAYLIGHT
BEGIN:STANDARD
TZOFFSETFROM:+0200
TZOFFSETTO:+0100
TZNAME:CET
DTSTART:20261025T010000
END:STANDARD
END:VTIMEZONE
BEGIN:VEVENT
DTSTART;TZID=Europe/Vienna:20251107T170000
DTEND;TZID=Europe/Vienna:20251107T190000
DTSTAMP:20260420T173452
CREATED:20251003T134038Z
LAST-MODIFIED:20251003T134038Z
UID:4481-1762534800-1762542000@vimoe.at
SUMMARY:"Inter* - Was ist das?" online Workshop in ÖGS
DESCRIPTION:Frau\, Mann … Inter* Was ist das? \n\n\nWorkshop mit Vanessa Schügerl und Katta Spiel  \n\n\nÖGS \n\n\nFragen sind möglich und erwünscht! \n\n\nFür Alle kostenlos! \n\n\nONLINE  \n\n\nWann: 7.11.2025 // 17.00 – 19.00 Uhr  \n\n\n\n\n\nBitte um Anmeldung bis 02.11.2025 per Email an: bildung @ varges.at \n\n\n\n\n\n \nGefördert aus den Mitteln der Sozialversicherung. \n\n\nIn Kooperation mit witaf.at und dem Gehörlosenverband Oberösterreich
URL:https://vimoe.at/event/inter-was-ist-das-online-workshop-in-oegs/
ATTACH;FMTTYPE=image/png:https://vimoe.at/wp-content/uploads/2025/10/Homepage-Header-OeGS-2.png
END:VEVENT
END:VCALENDAR