BEGIN:VCALENDAR
VERSION:2.0
PRODID:-//VIMÖ - ECPv6.15.20//NONSGML v1.0//EN
CALSCALE:GREGORIAN
METHOD:PUBLISH
X-ORIGINAL-URL:https://vimoe.at
X-WR-CALDESC:Veranstaltungen für VIMÖ
REFRESH-INTERVAL;VALUE=DURATION:PT1H
X-Robots-Tag:noindex
X-PUBLISHED-TTL:PT1H
BEGIN:VTIMEZONE
TZID:Europe/Vienna
BEGIN:DAYLIGHT
TZOFFSETFROM:+0100
TZOFFSETTO:+0200
TZNAME:CEST
DTSTART:20240331T010000
END:DAYLIGHT
BEGIN:STANDARD
TZOFFSETFROM:+0200
TZOFFSETTO:+0100
TZNAME:CET
DTSTART:20241027T010000
END:STANDARD
BEGIN:DAYLIGHT
TZOFFSETFROM:+0100
TZOFFSETTO:+0200
TZNAME:CEST
DTSTART:20250330T010000
END:DAYLIGHT
BEGIN:STANDARD
TZOFFSETFROM:+0200
TZOFFSETTO:+0100
TZNAME:CET
DTSTART:20251026T010000
END:STANDARD
BEGIN:DAYLIGHT
TZOFFSETFROM:+0100
TZOFFSETTO:+0200
TZNAME:CEST
DTSTART:20260329T010000
END:DAYLIGHT
BEGIN:STANDARD
TZOFFSETFROM:+0200
TZOFFSETTO:+0100
TZNAME:CET
DTSTART:20261025T010000
END:STANDARD
END:VTIMEZONE
BEGIN:VEVENT
DTSTART;TZID=Europe/Vienna:20251108T163000
DTEND;TZID=Europe/Vienna:20251108T180000
DTSTAMP:20260420T173908
CREATED:20251014T144609Z
LAST-MODIFIED:20251023T173030Z
UID:4561-1762619400-1762624800@vimoe.at
SUMMARY:Vortrag zu Leopold Zahn & Gespräch mit Clara Hartmann und VIMÖ
DESCRIPTION:Zum diesjährigen Inter*-Gedenk- und Solidaritätstag freuen wir uns auf eine besondere Veranstaltung in Wien: \n\n8. November 2025\, 16:30 Uhr\, Kulturzentrum 4lthangrund (Augasse 2-6\, 1090 Wien) \n\n\nLeopold Zahn wurde 1890 in Wien geborgen und war Schriftsteller\, Kunsthistoriker und Verleger. In „Aus dem Tagebuche einer männlichen Gymnasiastin. Die Geschichte einer Metamorphose“\, das 1910 erschien\, geht es auch um die eigene Biographie. „Eine Gymnasiastin\, die sich nie ihren Mitschülerinnen zugehörig fühlt\, schreibt über ihre Erlebnisse. Sie fühlt sich zu den Mädchen viel mehr hingezogen als zu den Männern. Doch sie ist nicht homosexuell\, wie sie erst denkt – sie ist ein Mann“\, ist auf der Homepage der Lili-Elbe-Bibliothek zu lesen. Damals gab es noch keine oder ganz andere Begriffe für Intergeschlechtlichkeit. Wir möchten mehr zur Geschichte von Leopold Zahn erfahren und freuen uns auf den anschließenden Austausch zur Wichtigkeit von inter* und trans* Biographien und Archiven. \n\n\nClara Hartmann hat sich mit dem Werk und der Person Leopold Zahn beschäftigt und betreibt die Lili-Elbe-Bibliothek: https://lili-elbe.de/. Dies ist eine private Sammlung von Büchern\, Filmen und mehr zu trans* und inter* Themen gegen das Vergessen und Auslöschen. Neben dem Sammeln rückt zunehmend die Erforschung von trans* und inter* Geschichte in den Vordergrund\, insbesondere zu Biographien von fast oder ganz vergessenen tin* Pionier*innen. \n\n\nDie Veranstaltung ist öffentlich und bei freiem Eintritt!
URL:https://vimoe.at/event/vortrag-zu-leopold-zahn-gespraech-mit-clara-hartmann-und-vimoe/
END:VEVENT
END:VCALENDAR