BEGIN:VCALENDAR
VERSION:2.0
PRODID:-//VIMÖ - ECPv6.15.20//NONSGML v1.0//EN
CALSCALE:GREGORIAN
METHOD:PUBLISH
X-ORIGINAL-URL:https://vimoe.at
X-WR-CALDESC:Veranstaltungen für VIMÖ
REFRESH-INTERVAL;VALUE=DURATION:PT1H
X-Robots-Tag:noindex
X-PUBLISHED-TTL:PT1H
BEGIN:VTIMEZONE
TZID:Europe/Vienna
BEGIN:DAYLIGHT
TZOFFSETFROM:+0100
TZOFFSETTO:+0200
TZNAME:CEST
DTSTART:20240331T010000
END:DAYLIGHT
BEGIN:STANDARD
TZOFFSETFROM:+0200
TZOFFSETTO:+0100
TZNAME:CET
DTSTART:20241027T010000
END:STANDARD
BEGIN:DAYLIGHT
TZOFFSETFROM:+0100
TZOFFSETTO:+0200
TZNAME:CEST
DTSTART:20250330T010000
END:DAYLIGHT
BEGIN:STANDARD
TZOFFSETFROM:+0200
TZOFFSETTO:+0100
TZNAME:CET
DTSTART:20251026T010000
END:STANDARD
BEGIN:DAYLIGHT
TZOFFSETFROM:+0100
TZOFFSETTO:+0200
TZNAME:CEST
DTSTART:20260329T010000
END:DAYLIGHT
BEGIN:STANDARD
TZOFFSETFROM:+0200
TZOFFSETTO:+0100
TZNAME:CET
DTSTART:20261025T010000
END:STANDARD
END:VTIMEZONE
BEGIN:VEVENT
DTSTART;TZID=Europe/Vienna:20251112T170000
DTEND;TZID=Europe/Vienna:20251112T190000
DTSTAMP:20260420T174104
CREATED:20251014T140936Z
LAST-MODIFIED:20251014T140936Z
UID:4543-1762966800-1762974000@vimoe.at
SUMMARY:Inter* / VdG Community-Abend in Linz
DESCRIPTION:Auch im November gibt es ein Kennenlern- und Austausch-Treffen für alle intergeschlechtlichen Menschen & Menschen mit Variationen der Geschlechtsmerkmale! \n\n\nWann: 12. November 2025 \n\n\nUhrzeit: 17 – 19 Uhr \n\n\nWo: VIMÖ Büro im Willy*Fred\, Graben 3\, 4020 Linz \n\n\nVor dem Innenhof rechts ins Treppenhaus und in den 1. Stock (siehe Ausschilderung). \n\n\nKeine Anmeldung nötig – einfach kommen :). \n\n\nBei Fragen gerne ein E-Mail schreiben an: Magdalena.Klein @ vimoe.at
URL:https://vimoe.at/event/inter-vdg-community-abend-in-linz-2/
END:VEVENT
END:VCALENDAR