BEGIN:VCALENDAR
VERSION:2.0
PRODID:-//VIMÖ - ECPv6.15.20//NONSGML v1.0//EN
CALSCALE:GREGORIAN
METHOD:PUBLISH
X-ORIGINAL-URL:https://vimoe.at
X-WR-CALDESC:Veranstaltungen für VIMÖ
REFRESH-INTERVAL;VALUE=DURATION:PT1H
X-Robots-Tag:noindex
X-PUBLISHED-TTL:PT1H
BEGIN:VTIMEZONE
TZID:Europe/Vienna
BEGIN:DAYLIGHT
TZOFFSETFROM:+0100
TZOFFSETTO:+0200
TZNAME:CEST
DTSTART:20250330T010000
END:DAYLIGHT
BEGIN:STANDARD
TZOFFSETFROM:+0200
TZOFFSETTO:+0100
TZNAME:CET
DTSTART:20251026T010000
END:STANDARD
BEGIN:DAYLIGHT
TZOFFSETFROM:+0100
TZOFFSETTO:+0200
TZNAME:CEST
DTSTART:20260329T010000
END:DAYLIGHT
BEGIN:STANDARD
TZOFFSETFROM:+0200
TZOFFSETTO:+0100
TZNAME:CET
DTSTART:20261025T010000
END:STANDARD
BEGIN:DAYLIGHT
TZOFFSETFROM:+0100
TZOFFSETTO:+0200
TZNAME:CEST
DTSTART:20270328T010000
END:DAYLIGHT
BEGIN:STANDARD
TZOFFSETFROM:+0200
TZOFFSETTO:+0100
TZNAME:CET
DTSTART:20271031T010000
END:STANDARD
END:VTIMEZONE
BEGIN:VEVENT
DTSTART;TZID=Europe/Vienna:20260326T180000
DTEND;TZID=Europe/Vienna:20260326T200000
DTSTAMP:20260420T120957
CREATED:20260202T161440Z
LAST-MODIFIED:20260205T131312Z
UID:4820-1774548000-1774555200@vimoe.at
SUMMARY:Inter* Community-Abend online
DESCRIPTION:Wir bieten auch einen online Community-Abend an am 26. März 2026 von 18:00 – 20:00 Uhr! \nNachdem wir länger kein online Angebot hatten\, das ausschließlich intergeschlechtlichen Menschen / Menschen mit Variationen der Geschlechtsmerkmale (VdG) Raum zum Austauschen und Zeit miteinander verbringen\, gibt\, möchten wir es wieder mal so anbieten. Meldet euch dafür bitte hier an und ihr erhält einen Zoom-Link: info@vimoe.at
URL:https://vimoe.at/event/inter-comunity-abend-online/
LOCATION:Online
END:VEVENT
END:VCALENDAR