BEGIN:VCALENDAR
VERSION:2.0
PRODID:-//VIMÖ - ECPv6.15.20//NONSGML v1.0//EN
CALSCALE:GREGORIAN
METHOD:PUBLISH
X-ORIGINAL-URL:https://vimoe.at
X-WR-CALDESC:Veranstaltungen für VIMÖ
REFRESH-INTERVAL;VALUE=DURATION:PT1H
X-Robots-Tag:noindex
X-PUBLISHED-TTL:PT1H
BEGIN:VTIMEZONE
TZID:Europe/Vienna
BEGIN:DAYLIGHT
TZOFFSETFROM:+0100
TZOFFSETTO:+0200
TZNAME:CEST
DTSTART:20250330T010000
END:DAYLIGHT
BEGIN:STANDARD
TZOFFSETFROM:+0200
TZOFFSETTO:+0100
TZNAME:CET
DTSTART:20251026T010000
END:STANDARD
BEGIN:DAYLIGHT
TZOFFSETFROM:+0100
TZOFFSETTO:+0200
TZNAME:CEST
DTSTART:20260329T010000
END:DAYLIGHT
BEGIN:STANDARD
TZOFFSETFROM:+0200
TZOFFSETTO:+0100
TZNAME:CET
DTSTART:20261025T010000
END:STANDARD
BEGIN:DAYLIGHT
TZOFFSETFROM:+0100
TZOFFSETTO:+0200
TZNAME:CEST
DTSTART:20270328T010000
END:DAYLIGHT
BEGIN:STANDARD
TZOFFSETFROM:+0200
TZOFFSETTO:+0100
TZNAME:CET
DTSTART:20271031T010000
END:STANDARD
END:VTIMEZONE
BEGIN:VEVENT
DTSTART;TZID=Europe/Vienna:20260527T160000
DTEND;TZID=Europe/Vienna:20260527T200000
DTSTAMP:20260420T190121
CREATED:20260420T130335Z
LAST-MODIFIED:20260420T130335Z
UID:5009-1779897600-1779912000@vimoe.at
SUMMARY:Workshop: Mit inklusiver Sprache Vielfalt stärken
DESCRIPTION:In der täglichen Kommunikation möchten Menschen erreicht werden\, sich verstanden und wertgeschätzt fühlen. Die Verwendung einer inklusiven Sprache soll uns genau dabei unterstützen. Der Workshop wird an der JKU Linz angeboten und findet im Rahmen des Monats der Vielfalt statt. \n  \nDarum geht es: \nDie Teilnehmer*innen lernen\, wie sie geschlechtergerecht und diversitätssensibel kommunizieren können. Mit praktischen Übungen erfahren die Teilnehmer*innen\, dass inklusive Sprache leicht umzusetzen ist und viele positive Effekte mit sich bringt. \n  \nSeminarinhalt: \n\nWirkung von Sprache – Sprache schafft Wirklichkeit\nNormen in der Sprache – Vorstellungen von Geschlecht\, Alter\, Herkunft\, Behinderung etc. prägen Sprache\nEmpfehlungen zur inklusiven Sprachpraxis – Diversität in Text\, gesprochener Sprache und Bildsprache\nSensibilisierung zu geschlechtlicher Vielfalt insbesondere in Bezug auf Intergeschlechtlichkeit\nKommunikation jenseits von nur zwei Geschlechtern\nVorstellung des Sprachleitfadens der JKU und interaktive\, vertiefende Übungen\n\nSeminarziele:   \n\nDie Teilnehmer*innen lernen über die Wirkung von Sprache und bestehende Normen in der Sprache.\nSie bekommen einen Einblick in häufige Formen von Diskriminierung in der Sprache.\nSie haben einen Überblick über die Möglichkeiten eines geschlechtergerechten und diversitätssensiblen Sprachgebrauchs.\nSie können die von der JKU empfohlenen Kommunikations- und Schreibweisen anwenden.\n\nTrainer*innen: \nSusanne Kalka\, Abteilung Gleichstellung\, Chancengerechtigkeit und Vielfalt JKU \nTinou Ponzer\, Verein VIMÖ und Beratungsstelle VarGes \n  \nweitere Infos zum Workshop und zur Anmeldung gibt’s auf der Seite der JKU.
URL:https://vimoe.at/event/workshop-mit-inklusiver-sprache-vielfalt-staerken/
END:VEVENT
END:VCALENDAR