BEGIN:VCALENDAR
VERSION:2.0
PRODID:-//VIMÖ - ECPv6.15.20//NONSGML v1.0//EN
CALSCALE:GREGORIAN
METHOD:PUBLISH
X-WR-CALNAME:VIMÖ
X-ORIGINAL-URL:https://vimoe.at
X-WR-CALDESC:Veranstaltungen für VIMÖ
REFRESH-INTERVAL;VALUE=DURATION:PT1H
X-Robots-Tag:noindex
X-PUBLISHED-TTL:PT1H
BEGIN:VTIMEZONE
TZID:Europe/Vienna
BEGIN:DAYLIGHT
TZOFFSETFROM:+0100
TZOFFSETTO:+0200
TZNAME:CEST
DTSTART:20250330T010000
END:DAYLIGHT
BEGIN:STANDARD
TZOFFSETFROM:+0200
TZOFFSETTO:+0100
TZNAME:CET
DTSTART:20251026T010000
END:STANDARD
BEGIN:DAYLIGHT
TZOFFSETFROM:+0100
TZOFFSETTO:+0200
TZNAME:CEST
DTSTART:20260329T010000
END:DAYLIGHT
BEGIN:STANDARD
TZOFFSETFROM:+0200
TZOFFSETTO:+0100
TZNAME:CET
DTSTART:20261025T010000
END:STANDARD
BEGIN:DAYLIGHT
TZOFFSETFROM:+0100
TZOFFSETTO:+0200
TZNAME:CEST
DTSTART:20270328T010000
END:DAYLIGHT
BEGIN:STANDARD
TZOFFSETFROM:+0200
TZOFFSETTO:+0100
TZNAME:CET
DTSTART:20271031T010000
END:STANDARD
END:VTIMEZONE
BEGIN:VEVENT
DTSTART;VALUE=DATE:20260807
DTEND;VALUE=DATE:20260810
DTSTAMP:20260420T184758
CREATED:20260202T163838Z
LAST-MODIFIED:20260202T163914Z
UID:4827-1786060800-1786319999@vimoe.at
SUMMARY:Community Wochenende 2026
DESCRIPTION:Das VIMÖ Community-Wochenende für Inter* / Menschen mit VdG & Familien & eure Liebsten hat ein Datum: \n7. – 9. August 2026 \nJuhu\, wir sind gerade dabei\, eine schöne und für Familien geeignete Unterkunft zu suchen\, damit wir im Sommer wieder gemeinsames Wochenende miteinander verbringen können und mehr Zeit und Gespräche entspannt miteinander haben als sonst. Wir freuen uns\, wenn ihr euch schon das Wochenende notieren wollt und euch bei Interesse bereits bei uns dafür anmeldet\, damit wir einen Überblick bekommen\, wieviele teilnehmen möchten und können: info@vimoe.at. Das genaue Programm des Wochenendes wird gerade noch ausgearbeitet.
URL:https://vimoe.at/event/4827/
END:VEVENT
END:VCALENDAR