BEGIN:VCALENDAR
VERSION:2.0
PRODID:-//VIMÖ - ECPv6.15.20//NONSGML v1.0//EN
CALSCALE:GREGORIAN
METHOD:PUBLISH
X-WR-CALNAME:VIMÖ
X-ORIGINAL-URL:https://vimoe.at
X-WR-CALDESC:Veranstaltungen für VIMÖ
REFRESH-INTERVAL;VALUE=DURATION:PT1H
X-Robots-Tag:noindex
X-PUBLISHED-TTL:PT1H
BEGIN:VTIMEZONE
TZID:Europe/Vienna
BEGIN:DAYLIGHT
TZOFFSETFROM:+0100
TZOFFSETTO:+0200
TZNAME:CEST
DTSTART:20240331T010000
END:DAYLIGHT
BEGIN:STANDARD
TZOFFSETFROM:+0200
TZOFFSETTO:+0100
TZNAME:CET
DTSTART:20241027T010000
END:STANDARD
BEGIN:DAYLIGHT
TZOFFSETFROM:+0100
TZOFFSETTO:+0200
TZNAME:CEST
DTSTART:20250330T010000
END:DAYLIGHT
BEGIN:STANDARD
TZOFFSETFROM:+0200
TZOFFSETTO:+0100
TZNAME:CET
DTSTART:20251026T010000
END:STANDARD
BEGIN:DAYLIGHT
TZOFFSETFROM:+0100
TZOFFSETTO:+0200
TZNAME:CEST
DTSTART:20260329T010000
END:DAYLIGHT
BEGIN:STANDARD
TZOFFSETFROM:+0200
TZOFFSETTO:+0100
TZNAME:CET
DTSTART:20261025T010000
END:STANDARD
END:VTIMEZONE
BEGIN:VEVENT
DTSTART;TZID=Europe/Vienna:20250603T190000
DTEND;TZID=Europe/Vienna:20250603T203000
DTSTAMP:20260420T230719
CREATED:20250515T132734Z
LAST-MODIFIED:20250515T132734Z
UID:4035-1748977200-1748982600@vimoe.at
SUMMARY:Vortrag im Queer Museum Vienna
DESCRIPTION:Objekt oder Subjekt? – Darstellungen von Inter* in Kunst\, Kultur und Medien \nTragisch\, voyeuristisch\, pathologisierend – mit diesen drei Wörtern können die Darstellungen von Intergeschlechtlichkeit in Kunst\, Kultur und Medien recht treffend beschrieben werden. Dieses Pauschalurteil greift allerdings zu kurz. Insbesondere in den letzten Jahren gibt es zunehmend Werke\, die intergeschlechtliche Menschen respektvoll abbilden oder die sogar von intergeschlechtlichen Künstler*innen selbst erschaffen wurden. Ihr wollt einen kleinen Überblick über gelungene und weniger gelungene Darstellungen bekommen und dabei auch ein bisschen mehr über Intergeschlechtlichkeit lernen? Dann kommt vorbei und begebt euch gemeinsam mit uns auf eine Reise in die Abgründe und Sternstunden von Kunst\, Kultur und Medien! \n\nÜber die Referent*in: \nCharlie Wunn ist seit mehreren Jahren in aktivistischen Kontexten zum Thema Intergeschlechtlichkeit unterwegs\, arbeitet seit 2022 für VIMÖ Wien und gibt Vorträge und Workshops zu Geschlechtervielfalt. \n\nWann: 3.6.2025 um 19 Uhr \nWo: QUEER MUSEUM VIENNA\, Otto Wagner Areal\, Stiege 2\, direkt hinter dem Haupttor \nAdresse: Baumgartnerhöhe 1\, 1140 Wien \nBald mehr Infos dazu auf unserer Homepage bzw. beim QMV: https://www.queermuseumvienna.com/
URL:https://vimoe.at/event/vortrag-im-queer-museum-vienna/
END:VEVENT
BEGIN:VEVENT
DTSTART;TZID=Europe/Vienna:20250604T093000
DTEND;TZID=Europe/Vienna:20250604T113000
DTSTAMP:20260420T230719
CREATED:20250526T132512Z
LAST-MODIFIED:20250526T132512Z
UID:4083-1749029400-1749036600@vimoe.at
SUMMARY:Kinovorführung: What a feeling
DESCRIPTION:Die VHS Wien hat in ihr diesjähriges Programm zum Pride Monat zwei Filme aufgenommen\, bei denen Spenden für VIMÖ gesammelt werden! Wir weisen deshalb auf die Filme hin und freuen uns\, wenn möglichst viele Leute zu den Vorstellungen kommen und fleißig für uns spenden! \nEinfach vorbeikommen! Es gibt Karten solange der Vorrat reicht.\nTermin: Mi\, 04.06.2025\, 09:30 – 11:20 Uhr\nWo: Filmcasino Wien (Margaretenstraße 78\, 1050 Wien) \n„What a feeling“ (Österreich\, 2024)\nLiebe zwischen Kulturen und Konventionen in Wien: Straight läuft bei Marie Theres und Fa gar nichts. Warmherzige und kluge Liebeskomödie um zwei Frauen in der Mitte des Lebens\, die sich nicht an den Rand drängen lassen. \nDer zweite Film wird am 17.06.2025 ab 18:00 in der Urania gezeigt. Mehr Infos dazu gibt es hier!
URL:https://vimoe.at/event/kinovorfuehrung-what-a-feeling/
END:VEVENT
BEGIN:VEVENT
DTSTART;TZID=Europe/Vienna:20250604T170000
DTEND;TZID=Europe/Vienna:20250604T213000
DTSTAMP:20260420T230719
CREATED:20250522T092439Z
LAST-MODIFIED:20250522T092439Z
UID:4064-1749056400-1749072600@vimoe.at
SUMMARY:Podiumsdiskussion "Queere Rechte: was sich heute ändern muss"
DESCRIPTION:Im Rahmen einer Veranstaltung von Erste Group und Vienna Pride ist Tinou Ponzer auf einem Podium zu Gast! \nGleichberechtigung nimmt heute keine lineare Entwicklung und wir beobachten mit großer Sorge\, dass wieder verstärkt gegen queere Menschen gewettert wird. In Österreich sind in den letzten Jahren kaum Fortschritte hinsichtlich queerer Rechte zu verzeichnen\, während in Nachbarländern hart erkämpfte Rechte wieder beschnitten werden. \nErste Bank und Vienna Pride laden ein und sprechen mit Expert:innen darüber\, was sich in Österreich für queere Menschen ändern muss vor dem Hintergrund aktueller Ereignisse. \nAuf dem Podium sind Dr. Richard Melichar (Koordinator für Menschenrechte im BMI)\, Dr.in Ewa Ernst-Dziedzic (Politologin\, Aktivistin\, ehemalige Nationalratsabgeordnete)\, Sebastian Rehse (Erste Group\, Leiter Group Affairs und Stakeholder Management) und Tinou Ponzer (VIMÖ). Es moderiert Colette M. Schmid (Der Standard). Das Publikum ist dazu eingeladen\, Fragen zu stellen. Im Anschluss an die Diskussion bleibt noch Zeit für Networking und Drinks mit Ausblick über Wien. \nDatum: 04.06.2025\nUhrzeit: 17:00-21:30 Uhr\nOrt: Erste Campus Wintergarten (Am Belvedere 1\, 1100 Wien) \nVorherige Anmeldung erforderlich. Eintritt ist frei.\nMehr Infos zur Veranstaltung inklusive Link zur Anmeldung gibt es auf der Seite der Vienna Pride.
URL:https://vimoe.at/event/podiumsdiskussion-queere-rechte-was-sich-heute-aendern-muss/
END:VEVENT
BEGIN:VEVENT
DTSTART;TZID=Europe/Vienna:20250606T173000
DTEND;TZID=Europe/Vienna:20250606T183000
DTSTAMP:20260420T230719
CREATED:20250522T094334Z
LAST-MODIFIED:20250522T100047Z
UID:4067-1749231000-1749234600@vimoe.at
SUMMARY:Vortrag von Luan Pertl auf der Vienna Pride Konferenz
DESCRIPTION:Im Rahmen der Vienna Pride Konferenz im Rathaus Wien am 06.06.2025 hält Luan Pertl einen Vortrag zum Thema „Inter*-medizinischer Umgang mit Wunschbehandlung versus Zwangsbehandlung“. Der Vortrag beginnt um 17:30 Uhr im Nordbuffet. \nInhalt:  \nHaben inter* Menschen auch Behandlungswünsche und wenn ja\, werden diese von der Medizin ernst genommen? Was bedeutet es für inter* Menschen nach einer Zwangsbehandlung in der Kindheit zu ihrer Wunschbehandlung zu kommen? Luan Pertl beschäftigt sich in diesem Vortrag mit den Fragen und versucht einen kurzen Überblick der Situation zu geben. \nDirekt vor dem Vortrag findet eine Podiumsdiskussion statt\, bei der Luan Pertl ebenfalls als Expert*in zugegen ist. Alle Informationen zur Vortrag und Podiumsdiskussion sowie allen weiteren Vorträgen auf der Vienna Pride Konferenz gibt es auf der Seite der Vienna Pride.
URL:https://vimoe.at/event/vortrag-von-luan-pertl-auf-der-vienna-pride-konferenz/
END:VEVENT
BEGIN:VEVENT
DTSTART;TZID=Europe/Vienna:20250611T190000
DTEND;TZID=Europe/Vienna:20250611T210000
DTSTAMP:20260420T230719
CREATED:20250410T091143Z
LAST-MODIFIED:20250814T110016Z
UID:3896-1749668400-1749675600@vimoe.at
SUMMARY:Inter* in der NS-Zeit – Vortrag in Wien
DESCRIPTION:Am 11. Juni kommt Jako Wende wieder nach Wien und hält einen Vortrag zur Situation von intergeschlechtlichen Menschen unterm Nazi-Regime in Österreich und Deutschland. Anschließend findet ein Podiumsgespräch mit Jako Wende und Luan Pertl von VIMÖ statt. Jakos Forschung macht persönliche Geschichten sichtbar\, wo es bis jetzt fast keine Forschung und Veröffentlichungen dazu gibt! Vor kurzem wurde Jakos Zine über Adele Haas veröffentlicht\, welches bei der Veranstaltung auch erhältlich ist. \nDie Veranstaltung findet ab 19 Uhr im w23 (Wipplinger Str. 23\, 1010 Wien) statt und ist eine Kooperation von Rosa Antifa Wien und VIMÖ. \nDie Veranstaltung am 11.06.2025 in Wien war sehr spannend – sie wurde von Radio Orange aufgezeichnet und ist hier ab sofort anhörbar: https://o94.at/programm/sendung/id/2497663 bzw. https://de.cba.media/720439 \nJako Wende macht Bildungsarbeit zu der Verfolgung verschiedenen Personengruppen im Nationalsozialismus. Häufig geht es hierbei um sexuelle und/oder geschlechtliche Vielfalt. \nLuan Pertl ist Obmensch von VIMÖ – Zweigverein Wien und engagiert sich seit vielen Jahren im nationalen und internationalen inter* Aktivismus. Außerdem ist Luan Geschäftsführer* des Schwulen Museum in Berlin. \nHinweise zu Barrieren und Dolmetsch: \nLeider ist die w23 das Gegenteil von barrierefrei: Sie ist nur über steile Treppen zu erreichen und auch die WCs sind nicht rolli-tauglich. Wir können dafür keine befriedigende Lösung anbieten. Ein WC ist F*L*I*T* only\, eines All Genders. Beides sind Sitzpinkler_innen WCs.\nWeitere nicht-bauliche Barrieren bemühen wir uns abzubauen (z.B. sprachlicher Art)\, müssen aber zugeben\, dass wir dabei auf Ressourcen-Grenzen sowie auf Barrieren in unseren Köpfen stoßen. Bei Veranstaltungen ist die w23 rauchfrei. Wenn der Zugang für euch schwierig ist\, bitten wir euch\, mit uns in Verbindung zu treten\, damit wir uns gemeinsam Möglichkeiten überlegen können. Mehr Infos dazu gibt es auch auf der Seite der w23. \nVortrag und Diskussion werden in ÖGS gedolmetscht von Eva Wachter und Martina Blumauer.\nMöglich ist das durch eine Förderung der Hochschüler*innenschaft an der Universität Wien und Bagru.Gewi (Basisgruppe Geisteswissenschaften). \nÖGS Dolmetschen gefördert durch:\n  \n  \n 
URL:https://vimoe.at/event/inter-in-der-ns-zeit-vortrag-in-wien/
END:VEVENT
BEGIN:VEVENT
DTSTART;TZID=Europe/Vienna:20250617T180000
DTEND;TZID=Europe/Vienna:20250617T200000
DTSTAMP:20260420T230719
CREATED:20250515T130932Z
LAST-MODIFIED:20250526T130404Z
UID:4030-1750183200-1750190400@vimoe.at
SUMMARY:Community-Abend: Kino in der Urania / Cinema at Urania
DESCRIPTION:Inter*/VdG Community Abend goes Kino! (English below) \nAm 17.6. gibt es einen Kinoabend der Volkshochschulen im Rahmen des Pride Monat\, wo Spenden für VIMÖ gesammelt werden! Passend dazu gibt es den Film „Erik und Erika“ (Österreich/Deutschland\, 2018) zu sehen\, wo es um die Geschichte des Skiweltmeisters Erik Schinegger geht. Daher laden wir zum letzten Wiener Community-Abend für intergeschlechtliche Menschen/Menschen mit Variationen der Geschlechtsmerkmale vor dem Sommer ein\, mit uns ins Kino zu kommen! \nDatum: 17. Juni 2025 \nWann: 18 – 20:00 Uhr \nWo: Constantin Kino in der VHS Wiener Urania\, Uraniastraße 1\, 1010 Wien \nHinweis: Es gibt Karten solange der Vorrat reicht. Ihr könnt aber auch schon in der Woche der Vorstellung gegen € 1\,- einen Sitzplatz über die Webseite des Constantin Kino reservieren. \nMehr Info zum Kinoabend: https://www.vhs.at/de/b/2025/04/23/pride2025 \nMehr Info zu unseren Community-Angeboten: https://vimoe.at/angebote \n— \nEnglish: Inter*/VSC Community Evening goes Cinema! \nOn 17 June\, there will be a cinema evening organised by the Volkshochschulen as part of Pride Month\, where donations will be collected for VIMÖ! The film ‘Erik und Erika’ (Austria/Germany\, 2018)\, which tells the story of world skiing champion Erik Schinegger\, therefore will be shown. We invite you to the last Viennese community evening for intersex people/people with variations of sex characteristics before the summer to come to the cinema with us! \nUnfortunately\, we do not know\, if there are English subtitles available – if so\, we will update this info on our homepage and on social media soon! \nDate: Tuesday\, 17 June 2025 \nWhen: 6 – 8pm \nWhere: Constantin cinema in the VHS Wiener Urania\, Uraniastraße 1\, 1010 Vienna \nPlease note: If you want to reserve a seat for the screening in advance\, you can do so via the website of Constantin Cinema. It costs only 1€ and is possible in the week of the screening. \nMore info about the cinema evening: https://www.vhs.at/de/b/2025/04/23/pride2025    \nMore info about our community offers: https://vimoe.at/angebote
URL:https://vimoe.at/event/community-abend-kino-in-der-urania-cinema-at-urania/
END:VEVENT
BEGIN:VEVENT
DTSTART;TZID=Europe/Vienna:20250628T120000
DTEND;TZID=Europe/Vienna:20250628T150000
DTSTAMP:20260420T230719
CREATED:20250606T183749Z
LAST-MODIFIED:20250606T183749Z
UID:4121-1751112000-1751122800@vimoe.at
SUMMARY:Stimmworkshop beim Festival of Skills
DESCRIPTION:Das Festival of Skills 2025\, organisiert von Cha(i)nge – Trans Peer Group Vienna\, ist ein Festival für niederschwellingen Wissensaustausch. Es findet vom 28. Juni 2025 bis zum 29. Juni 2025 im Kulturzentrum 4lthangrund in Wien statt. Das breite Workshopangebot geht vom Anbau von Pflanzenanbau\, Fermentation und der Herstellung eines Zines bis zum Entdecken der eigenen Stimme\, Empowerment im Alltag und im öffentlichen Raum. Die Workshops sind von und für TIN* Personen. Es gibt ein Rahmenprogramm für alle! \nMagdalena Klein (VIMÖ) gibt einen Workshop mit Bezug zur Stimme: \nIm Stimmworkshop erforschen wir die Kraft der Stimme als Mittel des persönlichen und gesellschaftlichen Ausdrucks. Die Teilnehmenden lernen grundlegende Stimmtechniken\, kombiniert mit Übungen zur Selbstwahrnehmung\, Präsenz und Spielübungen um die eigene Stimme bewusst und kraftvoll einzusetzen. Der Workshop bietet Raum für kreative Selbstentfaltung und ermutigt dazu\, die eigene Stimmkraft als Werkzeug für Veränderung zu nutzen. Egal ob leise oder laut – jede Stimme zählt! – Workshop auf Deutsch mit Magdalena (sie/ihr) \nINFO: Der Workshop ist leider bereits ausgebucht\, aber es gibt eine Warteliste. \n  \nMehr Infos zum Festival gibt es auf dem Instagram-Kanal von Cha(i)nge. Plätze für die anderen Workshops können hier reserviert werden.
URL:https://vimoe.at/event/stimmworkshop-beim-festival-of-skills/
END:VEVENT
END:VCALENDAR