BEGIN:VCALENDAR
VERSION:2.0
PRODID:-//VIMÖ - ECPv6.15.20//NONSGML v1.0//EN
CALSCALE:GREGORIAN
METHOD:PUBLISH
X-WR-CALNAME:VIMÖ
X-ORIGINAL-URL:https://vimoe.at
X-WR-CALDESC:Veranstaltungen für VIMÖ
REFRESH-INTERVAL;VALUE=DURATION:PT1H
X-Robots-Tag:noindex
X-PUBLISHED-TTL:PT1H
BEGIN:VTIMEZONE
TZID:Europe/Vienna
BEGIN:DAYLIGHT
TZOFFSETFROM:+0100
TZOFFSETTO:+0200
TZNAME:CEST
DTSTART:20240331T010000
END:DAYLIGHT
BEGIN:STANDARD
TZOFFSETFROM:+0200
TZOFFSETTO:+0100
TZNAME:CET
DTSTART:20241027T010000
END:STANDARD
BEGIN:DAYLIGHT
TZOFFSETFROM:+0100
TZOFFSETTO:+0200
TZNAME:CEST
DTSTART:20250330T010000
END:DAYLIGHT
BEGIN:STANDARD
TZOFFSETFROM:+0200
TZOFFSETTO:+0100
TZNAME:CET
DTSTART:20251026T010000
END:STANDARD
BEGIN:DAYLIGHT
TZOFFSETFROM:+0100
TZOFFSETTO:+0200
TZNAME:CEST
DTSTART:20260329T010000
END:DAYLIGHT
BEGIN:STANDARD
TZOFFSETFROM:+0200
TZOFFSETTO:+0100
TZNAME:CET
DTSTART:20261025T010000
END:STANDARD
END:VTIMEZONE
BEGIN:VEVENT
DTSTART;TZID=Europe/Vienna:20250801T170000
DTEND;TZID=Europe/Vienna:20250803T140000
DTSTAMP:20260420T201846
CREATED:20250313T142322Z
LAST-MODIFIED:20250313T142429Z
UID:3778-1754067600-1754229600@vimoe.at
SUMMARY:VIMÖ Community-Wochenende im Sommer / VIMÖ Communtiy Summer Weekend
DESCRIPTION:english below \n\n  \nVIMÖ Community-Wochenende im Sommer\nWir freuen uns\, euch 2025 erstmals auf ein Sommerwochenende einladen zu können 😀. Wir möchten zusammen eine entspannte Zeit verbringen\, Ausflüge machen und gegenseitiges Lernen\, Unterstützen und Selbsthilfe ermöglichen. Dazu bereiten wir ein kleines\, aber vielfältiges Programm vor\, auf Basis eurer Wünsche und Bedarfe\, die sich im Austausch miteinander ergeben (haben) und organisieren die Unterkunft! Die Kosten für Unterkunft\, Verpflegung und Anreise werden übernommen. \nDieses Angebot ist offen für Familien und Eltern mit Kindern und Jugendlichen mit Variationen der Geschlechtsmerkmale (VdG)\, intergeschlechtliche Menschen/Menschen mit Variationen der Geschlechtsmerkmale (VdG) und ihre Angehörigen\, (Ehe-)Partner*innen\, ihre liebsten/wichtigsten Bezugspersonen oder auch Unterstützungspersonen – die mit uns in Kontakt sind. \nWann: 1. – 3. August 2025 (2 Nächtigungen\, Anreise Freitag\, Abreise Sonntag)\nOrt: in Oberösterreich (in Seenähe) \nBitte meldet euch bei Interesse an – bis 10. April unter: info@vimoe.at\nMehr Infos folgen dann per Mail! \n \nVIMÖ Community Summer Weekend!\nWe are delighted to invite you to a summer weekend for the first time in 2025 😀. We want to spend a relaxed time together and do some summer activities\, and enable mutual learning\, support and self-help. Therefore\, we will prepare a small but varied programme based on your expressed wishes and needs (e.g. as discussed in community events) and organise the accommodation! The costs for accommodation\, meals and travel will be covered. \nThis offer is open to families and parents with children and teenagers with variations of sex characteristics (VSC)\, intersex people/people with variations of sex characteristics (VSC) and their relatives\, spouses/partners\, their favourite/most important friend or support person – who are in contact with us. \nWhen: 1 – 3 August 2025 (2 nights\, arrival Friday\, departure Sunday)\nLocation: in Upper Austria (near the lake) \nIf you are interested\, please register by 10 April at: info@vimoe.at\nMore information will follow by e-mail!
URL:https://vimoe.at/event/vimoe-community-wochenende-im-sommer-vimoe-communtiy-summer-weekend/
END:VEVENT
END:VCALENDAR