BEGIN:VCALENDAR
VERSION:2.0
PRODID:-//VIMÖ - ECPv6.15.20//NONSGML v1.0//EN
CALSCALE:GREGORIAN
METHOD:PUBLISH
X-ORIGINAL-URL:https://vimoe.at
X-WR-CALDESC:Veranstaltungen für VIMÖ
REFRESH-INTERVAL;VALUE=DURATION:PT1H
X-Robots-Tag:noindex
X-PUBLISHED-TTL:PT1H
BEGIN:VTIMEZONE
TZID:Europe/Vienna
BEGIN:DAYLIGHT
TZOFFSETFROM:+0100
TZOFFSETTO:+0200
TZNAME:CEST
DTSTART:20240331T010000
END:DAYLIGHT
BEGIN:STANDARD
TZOFFSETFROM:+0200
TZOFFSETTO:+0100
TZNAME:CET
DTSTART:20241027T010000
END:STANDARD
BEGIN:DAYLIGHT
TZOFFSETFROM:+0100
TZOFFSETTO:+0200
TZNAME:CEST
DTSTART:20250330T010000
END:DAYLIGHT
BEGIN:STANDARD
TZOFFSETFROM:+0200
TZOFFSETTO:+0100
TZNAME:CET
DTSTART:20251026T010000
END:STANDARD
BEGIN:DAYLIGHT
TZOFFSETFROM:+0100
TZOFFSETTO:+0200
TZNAME:CEST
DTSTART:20260329T010000
END:DAYLIGHT
BEGIN:STANDARD
TZOFFSETFROM:+0200
TZOFFSETTO:+0100
TZNAME:CET
DTSTART:20261025T010000
END:STANDARD
END:VTIMEZONE
BEGIN:VEVENT
DTSTART;TZID=Europe/Vienna:20250913T130000
DTEND;TZID=Europe/Vienna:20250913T160000
DTSTAMP:20260420T191135
CREATED:20250313T141252Z
LAST-MODIFIED:20250716T105415Z
UID:3772-1757768400-1757779200@vimoe.at
SUMMARY:Community Workshop in Linz für inter* Personen / Personen mit VdG
DESCRIPTION:Ihr könnt entscheiden\, um welchen Inhalt es beim Workshop gehen soll: \nOption 1  \nStimm-Workshop \nIm Stimm-Workshop erforschen wir die Kraft der Stimme als Mittel des persönlichen und gesellschaftlichen Ausdrucks. Die Teilnehmenden lernen grundlegende Stimmtechniken\, kombiniert mit Übungen zur Selbstwahrnehmung\, Präsenz und Spielübungen\, um die eigene Stimme bewusst und kraftvoll einzusetzen. Der Workshop bietet Raum für kreative Selbstentfaltung und ermutigt dazu\, die eigene Stimmkraft als Werkzeug für Veränderung zu nutzen. Egal ob leise oder laut – jede Stimme zählt! \n\nOption 2  \nKreativ-Werkstatt / Skill-Sharing \nWir können uns auf verschiedenen Wegen ausdrücken und Selbstregulation üben\, Sprache ist nur eine davon. In diesem Workshop gibt es die Möglichkeit ins kreative Gestalten zu gehen. Wir können mit Farben auf einer Leinwand ausdrücken\, z.B. was gerade in uns vorgeht\, oder wie wir die Welt sehen\, wie wir sie gerne hätten\, und was Community für uns bedeutet oder auch noch anderes. Es geht nicht um Perfektion oder Leistung\, wir können frei gestalten\, wie es für uns passend ist. Es kann sich zu den entstehenden Werken ausgetauscht werden\, muss es aber nicht. \nEbenso sind alle Interessierten eingeladen\, ihre eigenen kreativen Techniken und Skills vorzustellen und mitzubringen\, die sie gerne machen oder die ihnen im Alltag\, in der Freizeit verhelfen gut bei sich zu bleiben. Manche knüpfen oder stricken\, manche bauen oder basteln etwas… Bringt gerne eigene Materialien mit oder gebt uns Bescheid\, was wir dazu besorgen können! Farben und Leinwand stehen jedenfalls bereit und wir freuen uns auf einen offenen\, kreativen Nachmittag miteinander. \nIm Anschluss an den Workshop\, egal welche Option\, gibt es noch die Möglichkeit zum Ausklang mit Abendessen in einem Gastgarten in der Nähe. \nBitte meldet euch bis 31. August an unter: info@vimoe.at und gebt uns eure Präferenz bekannt. Wir entscheiden dann mehrheitlich nach euren Wünschen\, ob wir den Stimm-Workshop oder die Kreativ-Werkstatt anbieten. Und wie immer bei Fragen gerne melden! \n  \nDer Workshop wird ermöglicht durch:
URL:https://vimoe.at/event/community-workshop-in-linz-fuer-inter-personen-personen-mit-vdg/
END:VEVENT
BEGIN:VEVENT
DTSTART;TZID=Europe/Vienna:20250927T100000
DTEND;TZID=Europe/Vienna:20250927T150000
DTSTAMP:20260420T191135
CREATED:20250716T112940Z
LAST-MODIFIED:20250811T110243Z
UID:4252-1758967200-1758985200@vimoe.at
SUMMARY:"Inter* - was ist das?" Workshop in Österreichischer Gebärdensprache
DESCRIPTION:„Inter* – Was ist das?“ \nBasic-Workshop zum Thema Inter* – in Österreichischer Gebärdensprache (ÖGS) \n  \n27.09.2025 (Samstag) // 10:00 – 15:00 Uhr (inkl. 1 Std. Mittagspause) \nAdresse: Kleine Pfarrgasse 33\, 1020 Wien  \nIn Kooperation mit „WITAF„ \n  \nAnmeldung bis 21. September bitte unter: bildung@varges.at
URL:https://vimoe.at/event/inter-was-ist-das-workshop-in-oesterreichischer-gebaerdensprache-2/
END:VEVENT
BEGIN:VEVENT
DTSTART;TZID=Europe/Vienna:20250928T100000
DTEND;TZID=Europe/Vienna:20250928T150000
DTSTAMP:20260420T191135
CREATED:20250313T141757Z
LAST-MODIFIED:20250716T105703Z
UID:3775-1759053600-1759071600@vimoe.at
SUMMARY:Community-Workshop in Linz für Eltern mit intergeschlechtlichen Kindern
DESCRIPTION:Elternsein bringt viele Fragen mit sich – besonders wenn das eigene Kind inter* ist bzw. Variationen der Geschlechtsmerkmale hat. \nWie und wann spreche ich mit meinem Kind über sein Inter*-Sein? Wann und wie erkläre ich den anderen Familienmitgliedern\, worum es bei VdG/Intergeschlechtlichkeit geht? Wie gestalten wir den Alltag? Was tut uns gut? Wo(mit) finden wir die passende Unterstützung? Welche Gedanken und Sorgen bewegen uns als Eltern/Angehörige? \nGemeinsam wollen wir diesen Fragen nachgehen und ein für euch passendes Unterstützungsmodell kreieren. \nDie Kinder können mitkommen\, wir kümmern uns gemeinsam um einen guten Ablauf. Wir planen außerdem ein gemeinsames Mittagessen und sind auch flexibel\, was die Dauer des Workshops betrifft. Wenn ihr bestimmte aktuelle Themen habt\, die ihr gerne besprechen möchtet\, gebt uns gerne auch im Vorhinein schon Bescheid. \nAnmeldung bis 31. August unter: info@vimoe.at \n  \nDer Workshop wird ermöglicht durch:
URL:https://vimoe.at/event/community-workshop-in-linz-fuer-eltern-mit-intergeschlechtlichen-kindern/
END:VEVENT
BEGIN:VEVENT
DTSTART;TZID=Europe/Vienna:20250928T100000
DTEND;TZID=Europe/Vienna:20250928T150000
DTSTAMP:20260420T191135
CREATED:20250716T112715Z
LAST-MODIFIED:20250912T103445Z
UID:4249-1759053600-1759071600@vimoe.at
SUMMARY:"Inter* - was ist das?" Workshop in Österreichischer Gebärdensprache
DESCRIPTION:„Inter* – Was ist das?“ \nBasic-Workshop zum Thema Inter* – in Österreichischer Gebärdensprache (ÖGS) \n  \nLinz: \n28.09.2025 (Sonntag) // 10:00 – 15:00 Uhr (inkl. 1-stündiger Mittagspause) \nAdresse: Leharstraße 28\, 4020 Linz\,  \nIn Kooperation mit „Gehörlosenverband Oberösterreich“ \nAnmeldung bis 21. September bitte unter: bildung@varges.at \n 
URL:https://vimoe.at/event/inter-was-ist-das-workshop-in-oesterreichischer-gebaerdensprache/
END:VEVENT
END:VCALENDAR