BEGIN:VCALENDAR
VERSION:2.0
PRODID:-//VIMÖ - ECPv6.15.20//NONSGML v1.0//EN
CALSCALE:GREGORIAN
METHOD:PUBLISH
X-ORIGINAL-URL:https://vimoe.at
X-WR-CALDESC:Veranstaltungen für VIMÖ
REFRESH-INTERVAL;VALUE=DURATION:PT1H
X-Robots-Tag:noindex
X-PUBLISHED-TTL:PT1H
BEGIN:VTIMEZONE
TZID:Europe/Vienna
BEGIN:DAYLIGHT
TZOFFSETFROM:+0100
TZOFFSETTO:+0200
TZNAME:CEST
DTSTART:20250330T010000
END:DAYLIGHT
BEGIN:STANDARD
TZOFFSETFROM:+0200
TZOFFSETTO:+0100
TZNAME:CET
DTSTART:20251026T010000
END:STANDARD
BEGIN:DAYLIGHT
TZOFFSETFROM:+0100
TZOFFSETTO:+0200
TZNAME:CEST
DTSTART:20260329T010000
END:DAYLIGHT
BEGIN:STANDARD
TZOFFSETFROM:+0200
TZOFFSETTO:+0100
TZNAME:CET
DTSTART:20261025T010000
END:STANDARD
BEGIN:DAYLIGHT
TZOFFSETFROM:+0100
TZOFFSETTO:+0200
TZNAME:CEST
DTSTART:20270328T010000
END:DAYLIGHT
BEGIN:STANDARD
TZOFFSETFROM:+0200
TZOFFSETTO:+0100
TZNAME:CET
DTSTART:20271031T010000
END:STANDARD
END:VTIMEZONE
BEGIN:VEVENT
DTSTART;TZID=Europe/Vienna:20260428T170000
DTEND;TZID=Europe/Vienna:20260428T190000
DTSTAMP:20260420T105131
CREATED:20260202T160349Z
LAST-MODIFIED:20260327T144254Z
UID:4808-1777395600-1777402800@vimoe.at
SUMMARY:Inter* Community-Abend in Linz
DESCRIPTION:Am 28. April 2026 seid ihr herzlich von 17:00 – 19:00 Uhr in unseren Räumlichkeiten willkommen. Es gibt Tee\, Kaffee und Kekse…Ihr könnt in unserer Inter*-Bibliothek schmökern oder auch die neuersten Broschüren erkunden\, miteinander ratschen und einfach eine gemütliche Zeit gemeinsam verbringen. Alles nach Lust und Laune. Wir freuen uns auf euch! \nAdresse: VIMÖ Büro im Willy*Fred\, Graben 3\, 4020 Linz \nVor dem Innenhof rechts ins Treppenhaus und in den 1. Stock (siehe Ausschilderung). \nKeine Anmeldung nötig. Bei Rückfragen könnt ihr uns gerne ein Mail schreiben.
URL:https://vimoe.at/event/inter-community-abend-in-linz-2/
LOCATION:VIMÖ Büro Linz\, Graben 3\, 1. Stock\, Linz\, 4020\, Austria
END:VEVENT
END:VCALENDAR